BEGIN:VCALENDAR
VERSION:2.0
PRODID:-//Nicole TullyMD - ECPv6.15.20//NONSGML v1.0//EN
CALSCALE:GREGORIAN
METHOD:PUBLISH
X-ORIGINAL-URL:https://tullymd.com
X-WR-CALDESC:Events for Nicole TullyMD
REFRESH-INTERVAL;VALUE=DURATION:PT1H
X-Robots-Tag:noindex
X-PUBLISHED-TTL:PT1H
BEGIN:VTIMEZONE
TZID:America/New_York
BEGIN:DAYLIGHT
TZOFFSETFROM:-0500
TZOFFSETTO:-0400
TZNAME:EDT
DTSTART:20230312T070000
END:DAYLIGHT
BEGIN:STANDARD
TZOFFSETFROM:-0400
TZOFFSETTO:-0500
TZNAME:EST
DTSTART:20231105T060000
END:STANDARD
BEGIN:DAYLIGHT
TZOFFSETFROM:-0500
TZOFFSETTO:-0400
TZNAME:EDT
DTSTART:20240310T070000
END:DAYLIGHT
BEGIN:STANDARD
TZOFFSETFROM:-0400
TZOFFSETTO:-0500
TZNAME:EST
DTSTART:20241103T060000
END:STANDARD
BEGIN:DAYLIGHT
TZOFFSETFROM:-0500
TZOFFSETTO:-0400
TZNAME:EDT
DTSTART:20250309T070000
END:DAYLIGHT
BEGIN:STANDARD
TZOFFSETFROM:-0400
TZOFFSETTO:-0500
TZNAME:EST
DTSTART:20251102T060000
END:STANDARD
BEGIN:DAYLIGHT
TZOFFSETFROM:-0500
TZOFFSETTO:-0400
TZNAME:EDT
DTSTART:20260308T070000
END:DAYLIGHT
BEGIN:STANDARD
TZOFFSETFROM:-0400
TZOFFSETTO:-0500
TZNAME:EST
DTSTART:20261101T060000
END:STANDARD
BEGIN:DAYLIGHT
TZOFFSETFROM:-0500
TZOFFSETTO:-0400
TZNAME:EDT
DTSTART:20270314T070000
END:DAYLIGHT
BEGIN:STANDARD
TZOFFSETFROM:-0400
TZOFFSETTO:-0500
TZNAME:EST
DTSTART:20271107T060000
END:STANDARD
END:VTIMEZONE
BEGIN:VEVENT
DTSTART;TZID=America/New_York:20260219T180000
DTEND;TZID=America/New_York:20260219T210000
DTSTAMP:20260425T125158
CREATED:20260124T131552Z
LAST-MODIFIED:20260124T135200Z
UID:10000031-1771524000-1771534800@tullymd.com
SUMMARY:Dr. Nicole Tully joins an expert panel and  Mama’s Got Mojo for a screening of The [M] Factor 2
DESCRIPTION:Thursday\, February 19th\n6:00 pm\n–\n9:00 pm \nDr. Nicole Tully joins an expert panel and Mama’s Got Mojo for a screening ofThe [M] Factor 2\nFrom Mama’s Got Mojo: \nWhen we screened The M Factor- Shredding the Silence on Menopause\, the room was buzzing and the questions kept coming. The conversations didn’t want to end\, and the message we heard loud and clear was: “We need more.” \nSo\, we’re screening the sequel – The M Factor 2: Before the Pause- Perimenopause- and continuing the conversation with an expert panel. \nThis follow-up film continues the groundbreaking work of the original by shining a light on perimenopause\, the critical\, often overlooked transition that affects women’s physical\, mental\, and emotional health years before menopause. And this conversation isn’t just for women. \nMen are invited- and needed as allies. The film features male parters alongside experts and real women\, because understanding perimenopause changes relationships\, not just bodies. \nFollowing the screening\, we’ll host a live expert panel to go deeper and ending with a Q&A to answer all your questions. \nThis evening is: \n\nFor women who are in it\nFor women who want to be prepared\nFor husbands\, partners\, and allies who want to show up better\n\nThis screening is independently hosted in partnership with The [M] Factor. The film is produced by Women in the Room Productions and Take Flight Productions. \nTo make this conversation as accessible as possible – for women\, and the men who love them\, we’re offering 25% off early bird tickets for a limited time. \nBuy Tickets Now \nLocation: \nNarra Collective\, Jersey City\n333 Washington Street\, 3rd Floor\, Jersey City\,\nNJ\nUnited States
URL:https://tullymd.com/event/mfactor2-screening-about-perimenopause/
LOCATION:Narra Collective\, 333 Washington Street\, 3rd floor\, Jersey City\, NJ\, United States
ATTACH;FMTTYPE=image/jpeg:https://tullymd.com/wp-content/uploads/2026/01/63D09C12-51B6-418F-B552-BB7C3F543845-e1769262529100.jpeg
END:VEVENT
BEGIN:VEVENT
DTSTART;TZID=America/New_York:20260114T190000
DTEND;TZID=America/New_York:20260114T200000
DTSTAMP:20260425T125158
CREATED:20260114T025721Z
LAST-MODIFIED:20260114T030102Z
UID:10000029-1768417200-1768420800@tullymd.com
SUMMARY:TullyMD joins Best Self Mommas
DESCRIPTION:January 15th at 7:00 pm \nVirtual event\nIs it perimenopause? Understanding Hormones At Every Stage of Motherhood\nI am excited to join Best Self Mommas Circle for a discussion of how hormones in the Peri-partum period can seem like Perimenopause. \nHow to tell if it is\, or isn’t. Come join us to: \n\nUnderstand normal postpartum hormonal changes\nExplain why symptoms can feel similar to perimenopause\nNormalize emotional and physical experiences after birth\nDiscuss when to seek medical support\n\nDon’t miss a great discussion! \nJoin Here
URL:https://tullymd.com/event/join-us-for-an-informative-and-empowering-talk-led-by-a-physician-on-the-hormonal-changes-that-occur-after-childbirth-and-why-they-may-feel-surprisingly-familiar-during-the-postpartum-period/
LOCATION:
ATTACH;FMTTYPE=image/jpeg:https://tullymd.com/wp-content/uploads/2026/01/IMG_0984-e1768359745269.jpeg
END:VEVENT
BEGIN:VEVENT
DTSTART;TZID=America/New_York:20251028T183000
DTEND;TZID=America/New_York:20251028T203000
DTSTAMP:20260425T125158
CREATED:20251006T014447Z
LAST-MODIFIED:20260114T025907Z
UID:10000027-1761676200-1761683400@tullymd.com
SUMMARY:TullyMD joins TakeaMOMent
DESCRIPTION:October 28th\n6:30 pm\n–\n8:30 pm \nTullyMD joins Take a MOMent for their\nFree Jersey City Open House event at Porta\nMoms and Moms-to-be can come learn more about TullyMD Women’s Health Concierge Medicine Practice at Porta for Take a MOMent’s event. Expect a night of wonderful conversation with FREE dinner and drinks provided. \nBy invitation only. \nLocation \nPorta Jersey City\n135 Newark Avenue Jersey City\,\nNJ\nUnited States\n 
URL:https://tullymd.com/event/tullymd-joins-takeamoment/
LOCATION:Porta\, 135 Newark Avenue\, Jersey City\, NJ\, 07302\, United States
ATTACH;FMTTYPE=image/jpeg:https://tullymd.com/wp-content/uploads/2025/10/IMG_0685.jpeg
END:VEVENT
BEGIN:VEVENT
DTSTART;TZID=America/New_York:20251025T100000
DTEND;TZID=America/New_York:20251025T110000
DTSTAMP:20260425T125158
CREATED:20251013T211028Z
LAST-MODIFIED:20251014T140005Z
UID:10000028-1761386400-1761390000@tullymd.com
SUMMARY:TullyMD sponsors The HoBOOken 5K Race!
DESCRIPTION:October 25th @ 10am\n  \nTullyMD is a proud sponsor of the Hoboken Shelter in their important fundraising event\,\n  \nHoBOOken 5k Halloween Run  \n \nUSATF Certified Course\nSaturday\, October 25\, 2025 • Pier A in Hoboken\n  \nAdult 5K at 10am \nScary Scurry Kids Run at 11am \n  \n  \nRACING TO END HOMELESSNESS\n\nRegister Today!
URL:https://tullymd.com/event/tullymd-sponsors-the-hobooken-5k-race/
LOCATION:Hoboken Pier A\, 100 Sinatra Drive\, Hoboken\, 07030\, United States
ATTACH;FMTTYPE=image/png:https://tullymd.com/wp-content/uploads/2025/10/IMG_0692.png
END:VEVENT
BEGIN:VEVENT
DTSTART;TZID=America/New_York:20251022T180000
DTEND;TZID=America/New_York:20251022T203000
DTSTAMP:20260425T125158
CREATED:20251006T012336Z
LAST-MODIFIED:20251006T012529Z
UID:10000026-1761156000-1761165000@tullymd.com
SUMMARY:TullyMD joins Aditi Guha for PCOS Day!
DESCRIPTION:Wednesday\, October 22nd from 6pm to 8:30 pm \nPCOS Day\nIf you’ve ever felt like the only one struggling with PCOS\, you’re not alone. At PCOS Day\, you’ll meet women who understand\, practitioners who specialize in women’s health\, and allies who will help you stop carrying this burden by yourself. Your PCOS village includes not only expert practitioners and peers\, but also brands that truly care about women’s health. Each of these partners has contributed to creating a supportive\, empowering experience for you – from curated gift bag items to on-site activations. \nRSVP Here
URL:https://tullymd.com/event/pcos-day/
LOCATION:40 Crosby Street\, 40 Crosby Street\, New York\, NY\, 10013\, United States
ATTACH;FMTTYPE=image/jpeg:https://tullymd.com/wp-content/uploads/2025/10/IMG_0684.jpeg
END:VEVENT
BEGIN:VEVENT
DTSTART;TZID=America/New_York:20251014T183000
DTEND;TZID=America/New_York:20251014T200000
DTSTAMP:20260425T125158
CREATED:20250918T102135Z
LAST-MODIFIED:20250929T134118Z
UID:10000024-1760466600-1760472000@tullymd.com
SUMMARY:JC Menopause MeetUp with Laura Lacey
DESCRIPTION:Tuesday\, October 14th at 6:30 pm \nJC Menopause Meet Up with Laura Lacey\nWhether you’re in perimenopause\, menopause or post menopause\, you don’t need to navigate this stage of life alone.\n \nCome join Dr. Nicole Tully\, MD\, a Menopause Society Certified Provider. and Laura Lacey\, a menopause health coach on Tuesday\, October 14th @ 6:30pm @ Narra Collective\, 333 Washington Street\, 3rd floor\, Jersey City for a FREE event. \n  \nEvery woman’s menopause experience is unique. Maybe night sweats soak your sheets and keep you awake or you have unexplained weight gain or you have anxiety and heart palpitations or you have something totally different. It’s your menopause! \nWhat to expect… \n\nSupport in a safe\, nonjudgmental space.\nAdvice from menopause experts.\nA group of women you can relate to.\nDiscussion around topics that are important to you.\n\nReasons to join… \n\nDo you feel that no one understands what you’re going through?\nIs your doctor being dismissive?\nAre you overwhelmed by advice on social media?\nDo you just want to feel like yourself again?\n\nBring your questions and your friends. Can’t wait to see you!
URL:https://tullymd.com/event/jcmenopausemeetup/
LOCATION:Narra Collective\, 333 Washington Street\, 3rd floor\, Jersey City\, NJ\, United States
ATTACH;FMTTYPE=image/png:https://tullymd.com/wp-content/uploads/2025/09/Screenshot-2025-09-29-at-6.40.53-AM.png
END:VEVENT
BEGIN:VEVENT
DTSTART;TZID=America/New_York:20251009T183000
DTEND;TZID=America/New_York:20251009T203000
DTSTAMP:20260425T125158
CREATED:20250503T141829Z
LAST-MODIFIED:20250831T123159Z
UID:10000017-1760034600-1760041800@tullymd.com
SUMMARY:Empowered Movement - New DATE!!!
DESCRIPTION:October 9\n6:30 pm\n	 –\n8:30 pm \n\n	Empowered Movement – New DATE!!!\nWomen’s Financial Health\nEMPOWERED MOVEMENT “Women’s Financial Health”\nJoin us at Prime Cycle + Body – Downtown Studio for an empowering event focused on women’s financial health. \nYou’ll begin with a 40-minute spin class\, led by Prime Cycle + Body owner\, Julie Insogna-Jarrett. \nAfter hydration\, you’ll enjoy an insightful panel discussion with Dr. Nicole Tully and Amy Frank Goldman\, CRPC\, moderated by EMPOWERED MOVEMENT Founder Nikki On The Daily. \nThis in-person event will provide valuable insights on how physical strength contributes to financial stability. \nWe’ll open and conclude with socializing to connect with like-minded women as we raise awareness and donate funds to WomenRising\, New Jersey’s designated provider for Hudson County’s domestic violence programs. \nDon’t miss out on this opportunity to empower yourself\, take charge of your health\, and your financial future. \nTickets include: \n -access to the event \n-donation to WomenRising \n-a FREE Rumble Boxing class \n-Sunlyte Electrolyte Stick \n					\n									To RSVP for this event please click here\n					\n	 \nLocation\n\n			\n		Prime Cycle & Body			\n	\n\n86 River St\n		\n		Hoboken\,\n	NJ\n	07030\n	United States\n\n\n	+ Google Map \n\n					\n						\n	 \n\n	View Venue Website \n\n\n								\n										Facebook\n								\n										X\n								\n										LinkedIn\n								\n										Email
URL:https://tullymd.com/event/empowered-movement/
LOCATION:Prime Cycle & Body\, 86 River St\, Hoboken\, NJ\, 07030\, United States
ATTACH;FMTTYPE=image/jpeg:https://tullymd.com/wp-content/uploads/2025/04/EM-Hoboken-22025-1080-x-1350-px.jpg
ORGANIZER;CN="Tully MD":MAILTO:info@tullymd.com
END:VEVENT
BEGIN:VEVENT
DTSTART;TZID=America/New_York:20251009T110000
DTEND;TZID=America/New_York:20251009T120000
DTSTAMP:20260425T125158
CREATED:20250903T015946Z
LAST-MODIFIED:20250903T104347Z
UID:10000022-1760007600-1760011200@tullymd.com
SUMMARY:Women’s Health: Key Considerations Across the Lifespan From Reproduction to Menopause
DESCRIPTION:October 9th at 11:00 am \nWomen’s Health: Key Considerations Across the Lifespan\nA key discussion about women’s health with an international community of women.\nWomen’s health is a lifelong journey that evolves through distinct stages—from adolescence and reproductive years to menopause\, postmenopause\, and beyond—and HR leaders in SMBs play a key role in supporting employees through each phase.  \nThis session highlights the unique health considerations women face\, including reproductive and sexual health\, pregnancy and prenatal care\, perimenopause and menopause symptom management\, and the importance of bone\, heart\, and mental health as women age. We’ll explore preventive care practices such as screenings\, vaccinations\, and lifestyle interventions\, while also addressing common conditions like breast cancer\, osteoporosis\, and cardiovascular disease. Just as critical\, we’ll discuss the role of mental health\, self-care\, and social support in overall well-being.  \n  \nBy understanding women’s health across the lifespan\, organizations can better foster supportive policies\, resources\, and workplace cultures that empower women to thrive personally and professionally. \n					\n									Register Here
URL:https://tullymd.com/event/womens-health-key-considerations-across-the-lifespan-from-reproduction-to-menopause/
LOCATION:
ATTACH;FMTTYPE=image/png:https://tullymd.com/wp-content/uploads/2025/09/Screenshot-2025-09-02-at-8.20.09-PM.png
END:VEVENT
BEGIN:VEVENT
DTSTART;TZID=America/New_York:20250929T183000
DTEND;TZID=America/New_York:20250929T200000
DTSTAMP:20260425T125158
CREATED:20250918T100621Z
LAST-MODIFIED:20250929T102153Z
UID:10000023-1759170600-1759176000@tullymd.com
SUMMARY:The Perimenopause Talk with TullyMD and BeWell Psychotherapy
DESCRIPTION:September 29th at 6:30-8:00 pm \n \nThe Perimenopause Talk with TullyMD and BeWell Psychotherapy\n \nA key discussion about women’s health during Perimenopause.\n \n\nHosted by BeWELL Psychotherapy & Wellness + Dr. Nicole Tully\, MD \nDate: September 29\, 2025 \n \nTime & Location: 6:30 pm 79 Hudson St ste 700 Hoboken\, NJ 07030 \nPerimenopause is a major life transition\, and yet\, too often\, it feels like nobody is talking about it. The questions. The changes. The emotions. The impact on our bodies\, relationships\, and mental health. \nAt BeWELL and TullyMD\, we believe women deserve real\, honest conversations about their health and emotional well-being. That’s why we’re hosting The Perimenopause Talk\, an engaging panel and interactive discussion designed to break the silence and give women the tools\, information\, and support they need. \n \nThis event is for every woman who has wondered\, “Why didn’t anyone tell me this?” \n \n  \nWhat to Expect at The Perimenopause Talk \n \nThis isn’t your typical health lecture. It’s a real talk – a mix of expert insights\, personal stories\, and practical strategies to help you feel informed and empowered. \n\nMedical Expertise from Dr. Nicole Tully\, MDWith nearly two decades of experience as a women’s health physician\, Dr. Tully will break down what’s really happening during perimenopause\, from hormones to symptoms to treatment options\, so you can understand your body and feel confident about your health.\nMental Health + Emotional Support from BeWELL TherapistsDiana Gasperoni\, LCSW-R\, founder of BeWELL\, and Ednesha Saulsbury\, LCSW\, both experienced therapists specializing in women’s mental health\, will guide the conversation on the emotional side of perimenopause anxiety\, identity shifts\, relationships\, and more. They’ll offer real-life tools to help you feel grounded and supported through this season of change.\nInteractive Audience DialogueThis event isn’t about talking at you—it’s about talking with you. We’ll include live polling\, relatable panel questions\, and audience Q&A so you can get answers to the things you’ve been wondering about but haven’t had the chance to ask.\nCommunity ConnectionMeet other women navigating the same journey\, enjoy refreshments\, explore wellness offerings like ear acupuncture\, and leave with resources and support from BeWELL and Dr. Tully\, MD.\n\n \n \nWhy You Should Attend \n \nPerimenopause impacts your physical health\, emotional well-being\, relationships\, and overall quality of life. Too often\, women go through this phase feeling isolated and unprepared.The Perimenopause Talk will give you: \n\nA safe space for honest\, judgment-free conversations\nExpert insights from both a physician and mental health professionals\nPractical tools for navigating symptoms\, emotions\, and life changes\nA community of women who get it\n\nYou’ll leave feeling seen\, supported\, and better equipped to take care of yourself—mind\, body\, and spirit. \n					\n									RSVP Here
URL:https://tullymd.com/event/the-perimenopause-talk-with-tullymd-and-bewell-psychotherapy/
LOCATION:40 Crosby Street\, 40 Crosby Street\, New York\, NY\, 10013\, United States
ATTACH;FMTTYPE=image/png:https://tullymd.com/wp-content/uploads/2025/09/1.png
ORGANIZER;CN="Tully MD":MAILTO:info@tullymd.com
END:VEVENT
BEGIN:VEVENT
DTSTART;TZID=America/New_York:20250904T183000
DTEND;TZID=America/New_York:20250904T203000
DTSTAMP:20260425T125158
CREATED:20250410T174200Z
LAST-MODIFIED:20250815T132005Z
UID:10000003-1757010600-1757017800@tullymd.com
SUMMARY:[M] Factor movie Screening
DESCRIPTION:September 4\n6:30 pm\n	 –\n8:30 pm \n\n	[M] Factor movie Screening\nWe are excited to be offering a FREE screening of The M Factor Movie with a Q&A session to follow. This meeting is intended to help women understand what to expect during Menopause and how to feel well during this phase of their lives. Please RSVP if planning to attend.  \nBook now as space is limited. \nSign Up For Event Details\n	\n	\n\n	\n	\n\n	\n	\n \n\n	RSVP\n		1\n		RSVP\n			 19  remaining\n		RSVP Here\n	\n		RSVP	 \n\n	 \nLocation\n\n			\n		TullyMD Office			\n	\n\n79 Hudson Street\, Suite 700\n		\n		Hoboken\,\n	NJ\n	United States\n\n\n	+ Google Map \n\n					\n						\n	 \n\n\n \nShare Event\n								\n										Facebook\n								\n										Email\n								\n										LinkedIn
URL:https://tullymd.com/event/m-factor-movie-screening/
LOCATION:40 Crosby Street\, 40 Crosby Street\, New York\, NY\, 10013\, United States
ATTACH;FMTTYPE=image/png:https://tullymd.com/wp-content/uploads/2025/04/m-factor-event.png
ORGANIZER;CN="Tully MD":MAILTO:info@tullymd.com
END:VEVENT
BEGIN:VEVENT
DTSTART;TZID=America/New_York:20250604T190000
DTEND;TZID=America/New_York:20250604T203000
DTSTAMP:20260425T125158
CREATED:20250508T212546Z
LAST-MODIFIED:20250509T101529Z
UID:10000020-1749063600-1749069000@tullymd.com
SUMMARY:TullyMD meets the Mojo Society: Weight Gain During Menopause
DESCRIPTION:June 4th\, 2025\, 7:00 pm – 8:30 pm\n  \nTullyMD meets the Mojo Society: Weight Gain During Menopause\n  \nStruggling with weight changes in perimenopause or menopause?\nWondering why your usual approach isn’t working—or if meds like Ozempic could help?\nThis month\, I will join Mary and the Mojo Society for a real-talk session on mastering midlife weight. We’ll unpack what’s happening in your body\, explore smart lifestyle strategies\, and discuss what to know about weight loss medications.\nWalk away with clarity\, confidence\, and realistic tools to support your health. Guided by Mary Vidal\, Menopause Fitness & Health Coach\nInvestment in YOU: $25.\nSign Up For Event Details\n\nhttps://www.mywholecore.com/meno-mojo-signup \nLocation\n\nAttain MedSpa \n720 Monroe St Suite E407Hoboken\,\nNJ\n07030\nUnited States\n+ Google Map \n  \n\n\n\nRSVP here
URL:https://tullymd.com/event/mojo-society/
LOCATION:Attain MedSpa\, 720 Monroe St Suite E407\, Hoboken\, NJ\, 07030\, United States
ATTACH;FMTTYPE=image/jpeg:https://tullymd.com/wp-content/uploads/2025/05/IMG_4368.jpg
ORGANIZER;CN="Tully MD":MAILTO:info@tullymd.com
END:VEVENT
BEGIN:VEVENT
DTSTART;TZID=America/New_York:20250529T173000
DTEND;TZID=America/New_York:20250529T203000
DTSTAMP:20260425T125158
CREATED:20250414T144304Z
LAST-MODIFIED:20250501T135134Z
UID:10000006-1748539800-1748550600@tullymd.com
SUMMARY:TullyMD Spring Open House with Prenuvo Rooftop Party
DESCRIPTION:May 29\n5:30 pm\n–\n8:30 pm \nTullyMD Spring Open House with Prenuvo Rooftop Party\nMEMBERS ONLY \nCome learn more about TullyMD Women’s Health Concierge Medicine Practice and Prenuvo scans. Light refreshments will be served. First come first serve basis. Space is limited. \n\nRSVP Here\n\n \nLocation\n\nTullyMD Office \n79 Hudson Street\, Suite 700Hoboken\,\nNJ\nUnited States \n\n+ Google Map \n 
URL:https://tullymd.com/event/tullymd-spring-open-house-with-prenuvo-rooftop-party/
LOCATION:40 Crosby Street\, 40 Crosby Street\, New York\, NY\, 10013\, United States
ATTACH;FMTTYPE=image/jpeg:https://tullymd.com/wp-content/uploads/2025/04/Spring-TullyMD-Prenuvo-party.jpg
END:VEVENT
BEGIN:VEVENT
DTSTART;TZID=America/New_York:20250515T183000
DTEND;TZID=America/New_York:20250515T203000
DTSTAMP:20260425T125158
CREATED:20250410T175703Z
LAST-MODIFIED:20250430T153438Z
UID:10000004-1747333800-1747341000@tullymd.com
SUMMARY:[M] Factor movie Screening
DESCRIPTION:May 15\n6:30 pm\n	 –\n8:30 pm \n\n	[M] Factor movie Screening\nWe are excited to be offering a FREE screening of The M Factor Movie with a Q&A session to follow. This meeting is intended to help women understand what to expect during Menopause and how to feel well during this phase of their lives. Please RSVP if planning to attend. \nSign Up For Event Details\n	\n	\n	 \n\n	RSVP\n		5\n		RSVP\n		RSVP Here\n	\n		RSVP	 \n\n	 \nLocation\n\n			\n		Harrington\, Park			\n	\n\n	Harrington Park\,\n	NJ\n	United States\n\n\n	+ Google Map
URL:https://tullymd.com/event/m-factor-movie-screening-2/
LOCATION:Harrington\, Park\, Harrington Park\, NJ\, United States
ATTACH;FMTTYPE=image/png:https://tullymd.com/wp-content/uploads/2025/04/m-factor-event.png
ORGANIZER;CN="Tully MD":MAILTO:info@tullymd.com
END:VEVENT
BEGIN:VEVENT
DTSTART;TZID=America/New_York:20250508T090000
DTEND;TZID=America/New_York:20250508T110000
DTSTAMP:20260425T125158
CREATED:20250414T143701Z
LAST-MODIFIED:20250421T162911Z
UID:10000005-1746694800-1746702000@tullymd.com
SUMMARY:Women’s Health: Key Considerations Across the Lifespan
DESCRIPTION:May 8\n9:00 am\n–\n11:00 am \nWomen’s Health: Key Considerations Across the Lifespan\nPrivate event with LiveU Inc. A key discussion about women’s health with an international community of women. \n\n\nVisit liveU
URL:https://tullymd.com/event/womens-health-key-considerations-across-the-lifespan/
LOCATION:
ATTACH;FMTTYPE=image/png:https://tullymd.com/wp-content/uploads/2025/04/liveu-event.png
END:VEVENT
BEGIN:VEVENT
DTSTART;TZID=America/New_York:20250427T120000
DTEND;TZID=America/New_York:20250427T150000
DTSTAMP:20260425T125158
CREATED:20250408T160051Z
LAST-MODIFIED:20250421T161907Z
UID:10000002-1745755200-1745766000@tullymd.com
SUMMARY:Women’s Wellness Expo
DESCRIPTION:April 27\n12:00 pm\n	 –\n3:00 pm \n\n	Women’s Wellness Expo\nIGNITE YOUR MIND\, BODY AND SPIRIT AT THE HOBOKEN WOMEN’S WELLNESS EXPO\nJoin us on Sunday\, April 27th between 12 and 3pm at The Elks Club in Hoboken for the 2nd annual Hoboken Women’s Wellness Expo! This is a free event open to the Public. It will be an informative day filled with valuable information about health and wellness from a group of wonderful women entrepreneurs! Be sure to bring a friend! Hope to see you all there! \n	 \nLocation\n\n			\n		The Elks Club			\n	\n\n1005 Washington Street\n		\n		Hoboken\,\n	NJ\n	07030\n	United States\n\n\n	+ Google Map
URL:https://tullymd.com/event/womens-wellness-expo/
LOCATION:The Elks Club\, 1005 Washington Street\, Hoboken\, NJ\, 07030\, United States
ATTACH;FMTTYPE=image/png:https://tullymd.com/wp-content/uploads/2025/04/wellness-expo.png
END:VEVENT
BEGIN:VEVENT
DTSTART;VALUE=DATE:20250320
DTEND;VALUE=DATE:20250321
DTSTAMP:20260425T125158
CREATED:20250414T145011Z
LAST-MODIFIED:20250421T163148Z
UID:10000007-1742428800-1742515199@tullymd.com
SUMMARY:“All About Menopause\," discussion with Mindful Power
DESCRIPTION:March 20 \n\n	“All About Menopause\,” discussion with Mindful Power\nInformative discussion on menopause related issues and therapies \n					\n									Visit Mindful Power\n					\n	 \nLocation\n\n			\n		TullyMD Office			\n	\n\n79 Hudson Street\, Suite 700\n		\n		Hoboken\,\n	NJ\n	United States\n\n\n	+ Google Map
URL:https://tullymd.com/event/all-about-menopause/
LOCATION:40 Crosby Street\, 40 Crosby Street\, New York\, NY\, 10013\, United States
ATTACH;FMTTYPE=image/png:https://tullymd.com/wp-content/uploads/2025/04/all-about-menopause.png
END:VEVENT
BEGIN:VEVENT
DTSTART;VALUE=DATE:20241212
DTEND;VALUE=DATE:20241213
DTSTAMP:20260425T125158
CREATED:20250414T145428Z
LAST-MODIFIED:20250416T191146Z
UID:10000008-1733961600-1734047999@tullymd.com
SUMMARY:M Factor and menopause discussion at TullyMD
DESCRIPTION:December 12 \nM Factor and menopause discussion at TullyMD\nMovie showing and discussion to follow on analysis of the movie and addressing questions related to menopause. \n \nLocation\n\nTullyMD Office \n79 Hudson Street\, Suite 700Hoboken\,\nNJ\nUnited States \n\n+ Google Map \n 
URL:https://tullymd.com/event/m-factor-and-menopause-discussion-at-tullymd/
LOCATION:40 Crosby Street\, 40 Crosby Street\, New York\, NY\, 10013\, United States
ATTACH;FMTTYPE=image/png:https://tullymd.com/wp-content/uploads/2025/04/m-factor-event.png
END:VEVENT
BEGIN:VEVENT
DTSTART;VALUE=DATE:20241120
DTEND;VALUE=DATE:20241121
DTSTAMP:20260425T125158
CREATED:20250414T145812Z
LAST-MODIFIED:20250421T163325Z
UID:10000009-1732060800-1732147199@tullymd.com
SUMMARY:Planned Parenthood of Metropolitan NJ [M] Factor viewing and menopause discussion
DESCRIPTION:November 20\, 2024 \nPlanned Parenthood of Metropolitan NJ [M] Factor viewing and menopause discussion\nMovie showing and discussion to follow on analysis of the movie and addressing questions related to menopause. \n \nLocation\n\nThe Clairidge Theater \n486 Bloomfield AveMontclair\,\nNJ\n07042\nUnited States\n+ Google Map \n 
URL:https://tullymd.com/event/planned-parenthood-of-metropolitan-nj-m-factor-viewing-and-menopause-discussion/
LOCATION:The Clairidge Theater\, 486 Bloomfield Ave\, Montclair\, NJ\, 07042\, United States
ATTACH;FMTTYPE=image/jpeg:https://tullymd.com/wp-content/uploads/2025/04/image9.jpeg
END:VEVENT
BEGIN:VEVENT
DTSTART;VALUE=DATE:20240912
DTEND;VALUE=DATE:20240913
DTSTAMP:20260425T125158
CREATED:20250414T150211Z
LAST-MODIFIED:20250416T191249Z
UID:10000010-1726099200-1726185599@tullymd.com
SUMMARY:TullyMD Grand Opening Event
DESCRIPTION:November 20\, 2024 \nPlanned Parenthood of Metropolitan NJ [M] Factor viewing and menopause discussion\nMovie showing and discussion to follow on analysis of the movie and addressing questions related to menopause.\n \nLocation\n\nThe Clairidge Theater \n486 Bloomfield Ave\nMontclair\,\nNJ\n07042\nUnited States\n+ Google Map\n \n\n\nSeptember 12\, 2024 \nTullyMD Grand Opening Event\nPrivate event for members and invited guests in celebration of TullyMD’s grand opening \n \nLocation\n\nTullyMD Office \n79 Hudson Street\, Suite 700 \nHoboken\,\nNJ\nUnited States\n+ Google Map \n 
URL:https://tullymd.com/event/tullymd-grand-opening-event/
LOCATION:40 Crosby Street\, 40 Crosby Street\, New York\, NY\, 10013\, United States
ATTACH;FMTTYPE=image/png:https://tullymd.com/wp-content/uploads/2025/04/events_thumbnail.png
END:VEVENT
END:VCALENDAR